BEGIN:VCALENDAR
VERSION:2.0
PRODID:-//ALTGC - ECPv6.15.20//NONSGML v1.0//EN
CALSCALE:GREGORIAN
METHOD:PUBLISH
X-WR-CALNAME:ALTGC
X-ORIGINAL-URL:https://altgc.org
X-WR-CALDESC:Events for ALTGC
REFRESH-INTERVAL;VALUE=DURATION:PT1H
X-Robots-Tag:noindex
X-PUBLISHED-TTL:PT1H
BEGIN:VTIMEZONE
TZID:America/Chicago
BEGIN:DAYLIGHT
TZOFFSETFROM:-0600
TZOFFSETTO:-0500
TZNAME:CDT
DTSTART:20240310T080000
END:DAYLIGHT
BEGIN:STANDARD
TZOFFSETFROM:-0500
TZOFFSETTO:-0600
TZNAME:CST
DTSTART:20241103T070000
END:STANDARD
BEGIN:DAYLIGHT
TZOFFSETFROM:-0600
TZOFFSETTO:-0500
TZNAME:CDT
DTSTART:20250309T080000
END:DAYLIGHT
BEGIN:STANDARD
TZOFFSETFROM:-0500
TZOFFSETTO:-0600
TZNAME:CST
DTSTART:20251102T070000
END:STANDARD
BEGIN:DAYLIGHT
TZOFFSETFROM:-0600
TZOFFSETTO:-0500
TZNAME:CDT
DTSTART:20260308T080000
END:DAYLIGHT
BEGIN:STANDARD
TZOFFSETFROM:-0500
TZOFFSETTO:-0600
TZNAME:CST
DTSTART:20261101T070000
END:STANDARD
END:VTIMEZONE
BEGIN:VEVENT
DTSTART;TZID=America/Chicago:20250314T090000
DTEND;TZID=America/Chicago:20250314T193000
DTSTAMP:20260425T061018
CREATED:20250303T065135Z
LAST-MODIFIED:20250304T053357Z
UID:33191-1741942800-1741980600@altgc.org
SUMMARY:FIRST ANNIVERSARY & CELEBRATIONS 2025​
DESCRIPTION:1. Sri Maha Lakshmi Abhishekam: Starting at 10:30 AM\, this ritual involves the ceremonial bathing of the deity\, seeking blessings for prosperity and well-being.\n2.Sri Lakshmi Narayana Kalyana Mahothvam: Scheduled for 5:30 PM\, this ceremony commemorates the divine marriage of Lakshmi and Narayana\, symbolizing unity and harmony.\n3.Sri Ashtalakshmi Sahasra (1008 Lotus) Archana: At 7:30 PM\, devotees will participate in the chanting of 1008 names of the Ashtalakshmi deities\, offering lotus flowers.\nApply Now\n  \n 
URL:https://altgc.org/event/first-anniversary-celebrations-2025/
CATEGORIES:Festival
END:VEVENT
BEGIN:VEVENT
DTSTART;TZID=America/Chicago:20250225T080000
DTEND;TZID=America/Chicago:20250225T170000
DTSTAMP:20260425T061018
CREATED:20250118T111630Z
LAST-MODIFIED:20250118T111630Z
UID:33065-1740470400-1740502800@altgc.org
SUMMARY:SAMOHIK RUDHRA ABHISHEKAM/ARCHANA
DESCRIPTION:
URL:https://altgc.org/event/samohik-rudhra-abhishekam-archana/
CATEGORIES:Festival
END:VEVENT
BEGIN:VEVENT
DTSTART;TZID=America/Chicago:20250225T000000
DTEND;TZID=America/Chicago:20250225T000000
DTSTAMP:20260425T061018
CREATED:20250120T054133Z
LAST-MODIFIED:20250120T065736Z
UID:33091-1740441600-1740441600@altgc.org
SUMMARY:Maha Shivratri Celebrations Feb 25th 2025
DESCRIPTION:maha-shivratri-celebrations-2025\nMorning\n09.00 AM: Suprabatham\n09:30 AM: Nityapooja\n10:30 AM: Rudraabhishekam & Trishthi Archana\n (108 Spatika Shivalingams.)\nMaha Mangala Harathi & Prasadam! \nEvening\n05.00 PM : Temple will be open\n05:30-06:30 PM: Cultural Programs\n06:30 PM: Sri Maha Ganapathi Pooja\n06:45 PM: Ashtothara Satha\n(108) Sri Spatika Shiva Linga Rudra Abhishekam\n08:30 PM: Maha Mangal Harathi\n06.00 PM to 12.00 AM: Cultural Event\, Dancing\, Bhagens\,\n12.00 AM: Ligodbhava Harathi \nApply Now\n  \n 
URL:https://altgc.org/event/maha-shivratri-celebrations-feb-25th-2025/
CATEGORIES:Festival
END:VEVENT
BEGIN:VEVENT
DTSTART;TZID=America/Chicago:20250204T080000
DTEND;TZID=America/Chicago:20250204T170000
DTSTAMP:20260425T061018
CREATED:20250118T111217Z
LAST-MODIFIED:20250118T111427Z
UID:33057-1738656000-1738688400@altgc.org
SUMMARY:SRI ADITHYA HRUDHYA PARAYANAM
DESCRIPTION:
URL:https://altgc.org/event/sri-adithya-hrudhya-parayanam/
CATEGORIES:Festival
END:VEVENT
END:VCALENDAR