BEGIN:VCALENDAR
VERSION:2.0
PRODID:-//ALTGC - ECPv6.15.20//NONSGML v1.0//EN
CALSCALE:GREGORIAN
METHOD:PUBLISH
X-ORIGINAL-URL:https://altgc.org
X-WR-CALDESC:Events for ALTGC
REFRESH-INTERVAL;VALUE=DURATION:PT1H
X-Robots-Tag:noindex
X-PUBLISHED-TTL:PT1H
BEGIN:VTIMEZONE
TZID:America/Chicago
BEGIN:DAYLIGHT
TZOFFSETFROM:-0600
TZOFFSETTO:-0500
TZNAME:CDT
DTSTART:20240310T080000
END:DAYLIGHT
BEGIN:STANDARD
TZOFFSETFROM:-0500
TZOFFSETTO:-0600
TZNAME:CST
DTSTART:20241103T070000
END:STANDARD
BEGIN:DAYLIGHT
TZOFFSETFROM:-0600
TZOFFSETTO:-0500
TZNAME:CDT
DTSTART:20250309T080000
END:DAYLIGHT
BEGIN:STANDARD
TZOFFSETFROM:-0500
TZOFFSETTO:-0600
TZNAME:CST
DTSTART:20251102T070000
END:STANDARD
BEGIN:DAYLIGHT
TZOFFSETFROM:-0600
TZOFFSETTO:-0500
TZNAME:CDT
DTSTART:20260308T080000
END:DAYLIGHT
BEGIN:STANDARD
TZOFFSETFROM:-0500
TZOFFSETTO:-0600
TZNAME:CST
DTSTART:20261101T070000
END:STANDARD
END:VTIMEZONE
BEGIN:VTIMEZONE
TZID:UTC
BEGIN:STANDARD
TZOFFSETFROM:+0000
TZOFFSETTO:+0000
TZNAME:UTC
DTSTART:20230101T000000
END:STANDARD
END:VTIMEZONE
BEGIN:VEVENT
DTSTART;TZID=America/Chicago:20250204T080000
DTEND;TZID=America/Chicago:20250204T170000
DTSTAMP:20260425T111919
CREATED:20250118T111217Z
LAST-MODIFIED:20250118T111427Z
UID:33057-1738656000-1738688400@altgc.org
SUMMARY:SRI ADITHYA HRUDHYA PARAYANAM
DESCRIPTION:
URL:https://altgc.org/event/sri-adithya-hrudhya-parayanam/
CATEGORIES:Festival
END:VEVENT
BEGIN:VEVENT
DTSTART;TZID=UTC:20250118T093000
DTEND;TZID=UTC:20250118T190000
DTSTAMP:20260425T111919
CREATED:20231228T163536Z
LAST-MODIFIED:20231228T163556Z
UID:29199-1737192600-1737226800@altgc.org
SUMMARY:SRI MAHA LAKSHIMI ABHISHEKAM
DESCRIPTION:
URL:https://altgc.org/event/sri-maha-lakshimi-abhishekam-18-jan-2025/
END:VEVENT
BEGIN:VEVENT
DTSTART;TZID=UTC:20250116T093000
DTEND;TZID=UTC:20250116T190000
DTSTAMP:20260425T111919
CREATED:20231228T190826Z
LAST-MODIFIED:20231228T190826Z
UID:29260-1737019800-1737054000@altgc.org
SUMMARY:SANKATAHARANA CHATURTHI
DESCRIPTION:
URL:https://altgc.org/event/sankataharana-chaturthi-16-jan-2025/
END:VEVENT
BEGIN:VEVENT
DTSTART;TZID=UTC:20250114T080000
DTEND;TZID=UTC:20250114T103000
DTSTAMP:20260425T111919
CREATED:20231228T160801Z
LAST-MODIFIED:20250104T073045Z
UID:29169-1736841600-1736850600@altgc.org
SUMMARY:SRI RANGANATHA ABHISHEKAM / ARCHANA
DESCRIPTION:
URL:https://altgc.org/event/sri-ranganatha-abhishekam-archana/
END:VEVENT
BEGIN:VEVENT
DTSTART;TZID=UTC:20250112T093000
DTEND;TZID=UTC:20250112T190000
DTSTAMP:20260425T111919
CREATED:20231228T165138Z
LAST-MODIFIED:20250104T072908Z
UID:29227-1736674200-1736708400@altgc.org
SUMMARY:SRI SATYANARYANA POOJA
DESCRIPTION:
URL:https://altgc.org/event/sri-satyanaryana-pooja-13-jan-2025/
END:VEVENT
BEGIN:VEVENT
DTSTART;TZID=America/Chicago:20250112T093000
DTEND;TZID=America/Chicago:20250112T103000
DTSTAMP:20260425T111919
CREATED:20250104T065207Z
LAST-MODIFIED:20250104T074410Z
UID:32868-1736674200-1736677800@altgc.org
SUMMARY:SRI ANDAL KALYANAM / ARCHANA
DESCRIPTION:
URL:https://altgc.org/event/sri-andal-kalyanam-archana/
END:VEVENT
BEGIN:VEVENT
DTSTART;TZID=America/Chicago:20250106T080000
DTEND;TZID=America/Chicago:20250106T170000
DTSTAMP:20260425T111919
CREATED:20250104T065833Z
LAST-MODIFIED:20250104T065833Z
UID:32874-1736150400-1736182800@altgc.org
SUMMARY:SRI RANGANATHA (SRIMANNARAYANA) ABHISHEKAM
DESCRIPTION:
URL:https://altgc.org/event/sri-ranganatha-srimannarayana-abhishekam-06-jan-2025-3/
END:VEVENT
BEGIN:VEVENT
DTSTART;TZID=UTC:20241222T093000
DTEND;TZID=UTC:20241222T190000
DTSTAMP:20260425T111919
CREATED:20231228T163507Z
LAST-MODIFIED:20231228T163507Z
UID:29197-1734859800-1734894000@altgc.org
SUMMARY:SRI MAHA LAKSHIMI ABHISHEKAM
DESCRIPTION:
URL:https://altgc.org/event/sri-maha-lakshimi-abhishekam-22-dec-2024/
END:VEVENT
BEGIN:VEVENT
DTSTART;TZID=UTC:20241218T093000
DTEND;TZID=UTC:20241218T190000
DTSTAMP:20260425T111919
CREATED:20231228T190716Z
LAST-MODIFIED:20231228T190716Z
UID:29258-1734514200-1734548400@altgc.org
SUMMARY:SANKATAHARANA CHATURTHI
DESCRIPTION:
URL:https://altgc.org/event/sankataharana-chaturthi-18-dec-2024/
END:VEVENT
BEGIN:VEVENT
DTSTART;TZID=UTC:20241215T103000
DTEND;TZID=UTC:20241215T113000
DTSTAMP:20260425T111919
CREATED:20231221T165620Z
LAST-MODIFIED:20241210T093838Z
UID:28710-1734258600-1734262200@altgc.org
SUMMARY:Dhanurmasam Utshavam 2025
DESCRIPTION:Apply Now\n  \n 
URL:https://altgc.org/event/dhanurmasam-utshavam/
END:VEVENT
BEGIN:VEVENT
DTSTART;TZID=UTC:20241214T093000
DTEND;TZID=UTC:20241214T190000
DTSTAMP:20260425T111919
CREATED:20231228T165038Z
LAST-MODIFIED:20231228T165105Z
UID:29225-1734168600-1734202800@altgc.org
SUMMARY:SRI SATYANARYANA POOJA
DESCRIPTION:
URL:https://altgc.org/event/sri-satyanaryana-pooja-14-dec-2024/
END:VEVENT
BEGIN:VEVENT
DTSTART;TZID=UTC:20241210T080000
DTEND;TZID=UTC:20241210T170000
DTSTAMP:20260425T111919
CREATED:20231228T160713Z
LAST-MODIFIED:20231228T160730Z
UID:29167-1733817600-1733850000@altgc.org
SUMMARY:SRI RANGANATHA (SRIMANNARAYANA) ABHISHEKAM
DESCRIPTION:
URL:https://altgc.org/event/sri-ranganatha-srimannarayana-abhishekam-10-dec-2024/
END:VEVENT
BEGIN:VEVENT
DTSTART;TZID=UTC:20241125T093000
DTEND;TZID=UTC:20241125T190000
DTSTAMP:20260425T111919
CREATED:20231228T163359Z
LAST-MODIFIED:20231228T163418Z
UID:29195-1732527000-1732561200@altgc.org
SUMMARY:SRI MAHA LAKSHIMI ABHISHEKAM
DESCRIPTION:
URL:https://altgc.org/event/sri-maha-lakshimi-abhishekam-25-nov-2024/
END:VEVENT
BEGIN:VEVENT
DTSTART;TZID=UTC:20241118T093000
DTEND;TZID=UTC:20241118T190000
DTSTAMP:20260425T111919
CREATED:20231228T190621Z
LAST-MODIFIED:20231228T190621Z
UID:29256-1731922200-1731956400@altgc.org
SUMMARY:SANKATAHARANA CHATURTHI
DESCRIPTION:
URL:https://altgc.org/event/sankataharana-chaturthi-18-nov-2024/
END:VEVENT
BEGIN:VEVENT
DTSTART;TZID=UTC:20241115T173000
DTEND;TZID=UTC:20241115T183000
DTSTAMP:20260425T111919
CREATED:20231221T165538Z
LAST-MODIFIED:20241104T054147Z
UID:28708-1731691800-1731695400@altgc.org
SUMMARY:Sri Satyanarayana Swamy Vartha Sahitha Karthika Deepoosthavam 2024
DESCRIPTION:Sri Satyanarayana Swamy Vartha Sahitha Karthika Deepoosthavam 2024 \nEvening at 5.30 PM \nVENUE: Sri Ashtalakshmi Temple (Temple with Provide all Pooja Items & Mahaprasadam (Dinner) \nApply Now\n 
URL:https://altgc.org/event/sri-satyanarayana-swamy-vartha-sahitha-karthika-deepoosthavam-2024/
END:VEVENT
BEGIN:VEVENT
DTSTART;TZID=UTC:20241114T093000
DTEND;TZID=UTC:20241114T183000
DTSTAMP:20260425T111919
CREATED:20231228T193231Z
LAST-MODIFIED:20231228T193231Z
UID:29286-1731576600-1731609000@altgc.org
SUMMARY:KARTIKA MASA SATYANARAYANA VRATHAM
DESCRIPTION:
URL:https://altgc.org/event/kartika-masa-satyanarayana-vratham-14-nov-2024/
END:VEVENT
BEGIN:VEVENT
DTSTART;TZID=UTC:20241113T080000
DTEND;TZID=UTC:20241113T170000
DTSTAMP:20260425T111919
CREATED:20231228T160624Z
LAST-MODIFIED:20231228T160645Z
UID:29165-1731484800-1731517200@altgc.org
SUMMARY:SRI RANGANATHA (SRIMANNARAYANA) ABHISHEKAM
DESCRIPTION:
URL:https://altgc.org/event/sri-ranganatha-srimannarayana-abhishekam-13-nov-2024/
END:VEVENT
BEGIN:VEVENT
DTSTART;TZID=UTC:20241112T103000
DTEND;TZID=UTC:20241112T113000
DTSTAMP:20260425T111919
CREATED:20231221T165456Z
LAST-MODIFIED:20231221T165456Z
UID:28706-1731407400-1731411000@altgc.org
SUMMARY:Sri Asthalakhmi Abhishekam / Archana - Kartika Dwadwadasl
DESCRIPTION:
URL:https://altgc.org/event/sri-asthalakhmi-abhishekam-archana-kartika-dwadwadasl/
END:VEVENT
BEGIN:VEVENT
DTSTART;TZID=UTC:20241111T103000
DTEND;TZID=UTC:20241111T113000
DTSTAMP:20260425T111919
CREATED:20231221T165412Z
LAST-MODIFIED:20231221T165412Z
UID:28704-1731321000-1731324600@altgc.org
SUMMARY:Sri Ranganatha Abhishekam / Archana - Kartika ekadashi
DESCRIPTION:
URL:https://altgc.org/event/sri-ranganatha-abhishekam-archana-kartika-ekadashi/
END:VEVENT
BEGIN:VEVENT
DTSTART;TZID=UTC:20241031T093000
DTEND;TZID=UTC:20241031T193000
DTSTAMP:20260425T111919
CREATED:20231221T165306Z
LAST-MODIFIED:20231223T120859Z
UID:28702-1730367000-1730403000@altgc.org
SUMMARY:Sri Mahalakshmi 108 Milk (Kalasha) Abhishekam / Archana Starts 11:00 AM - 07:30 PM - Diwali
DESCRIPTION:
URL:https://altgc.org/event/sri-mahalakshmi-108-milk-kalasha-abhishekam-archana-starts-1100-am-0730-pm-diwali/
END:VEVENT
BEGIN:VEVENT
DTSTART;TZID=UTC:20241020T093000
DTEND;TZID=UTC:20241020T190000
DTSTAMP:20260425T111919
CREATED:20231228T190506Z
LAST-MODIFIED:20231228T190524Z
UID:29254-1729416600-1729450800@altgc.org
SUMMARY:SANKATAHARANA CHATURTHI
DESCRIPTION:
URL:https://altgc.org/event/sankataharana-chaturthi-20-oct-2024/
END:VEVENT
BEGIN:VEVENT
DTSTART;TZID=UTC:20241016T093000
DTEND;TZID=UTC:20241016T190000
DTSTAMP:20260425T111919
CREATED:20231228T164854Z
LAST-MODIFIED:20231228T164916Z
UID:29221-1729071000-1729105200@altgc.org
SUMMARY:SRI SATYANARYANA POOJA
DESCRIPTION:
URL:https://altgc.org/event/sri-satyanaryana-pooja-16-oct-2024/
END:VEVENT
BEGIN:VEVENT
DTSTART;TZID=UTC:20241016T080000
DTEND;TZID=UTC:20241016T170000
DTSTAMP:20260425T111919
CREATED:20231228T160536Z
LAST-MODIFIED:20231228T160555Z
UID:29163-1729065600-1729098000@altgc.org
SUMMARY:SRI RANGANATHA (SRIMANNARAYANA) ABHISHEKAM
DESCRIPTION:
URL:https://altgc.org/event/sri-ranganatha-srimannarayana-abhishekam-16-oct-2024/
END:VEVENT
BEGIN:VEVENT
DTSTART;TZID=UTC:20241012T110000
DTEND;TZID=UTC:20241012T120000
DTSTAMP:20260425T111919
CREATED:20231221T165212Z
LAST-MODIFIED:20231221T165212Z
UID:28700-1728730800-1728734400@altgc.org
SUMMARY:Sri Devi/Bhodevi Sameta Sri Ranganatha Kalyanam - Vijaya Dashami
DESCRIPTION:
URL:https://altgc.org/event/sri-devi-bhodevi-sameta-sri-ranganatha-kalyanam-vijaya-dashami/
END:VEVENT
BEGIN:VEVENT
DTSTART;TZID=UTC:20241012T083000
DTEND;TZID=UTC:20241012T203000
DTSTAMP:20260425T111919
CREATED:20231228T195139Z
LAST-MODIFIED:20240827T065016Z
UID:29306-1728721800-1728765000@altgc.org
SUMMARY:SHARADH NAVRATRI FESTIVAL - VIJAYA DASHMI SRI LAKHSMI NARAYANA KALYANAM
DESCRIPTION:Oct 12th Friday – 2024\nSaturday – Vijayadashami Day 2024\n Morning: 8:30 Am- Suprabatham\n9:00 Am – Nityapooja\n9:30 Am – Sri Ranganatha Abhishekam\n11:00 Am- Sri Bhoo Sametha Sri Ranganatha Swamy Kalyanam {TTD Laddu Prasadam}\n12:30 Pm – Maha Mangalahaarathi &maha Prasdam \n Evening: 5:30 Pm – Sri Vishnu Sahasranama Parayanam\n 6pm – Sri Sita Rama Almkaara Seva\n7:30 PM – Carnatic Music\n8:15 Pm – Maha Mangala Harathi & Prasdam \n8:30pm – Sri Sita Rama Pallaki Seva\n \n \n  \nCLICK HERE TO REGISTER EVENT
URL:https://altgc.org/event/sharadh-navratri-festival-vijaya-dashmi-sri-lakhsmi-narayana-kalyanam-12-oct-2024/
END:VEVENT
BEGIN:VEVENT
DTSTART;TZID=UTC:20241011T083000
DTEND;TZID=UTC:20241011T203000
DTSTAMP:20260425T111919
CREATED:20231228T194806Z
LAST-MODIFIED:20240827T064720Z
UID:29302-1728635400-1728678600@altgc.org
SUMMARY:SHARADH NAVRATRI FESTIVAL - RAJYA LAKSHMI ALANKARANA/ARCHANA
DESCRIPTION:Oct 11th Friday – 2024 \nMorning: 8:30 Am- Suprabatham\n9:00 Am – Nityapooja\n9:30 Am – Sri Rajyalakshmi Lakshmi Abhishekam\n11:00 Am – Sri Suktha Homam\n12:30 Pm – Puranhuthi\, Maha Mangalahaarathi & Prasdam \n\nEvening: 5:30 Pm – Sri Lalitha Sahasranama Parayanam\n6pm – Sri Ashtalakshmi Laksha Kumkumaarchana\n 7:30 Pm – Carnatic Music\n8:15 Pm – Maha Mangala Harathi & Prasdam \n8:30pm – Sri Rajyalakshmi Pallaki Seva\n \n \n  \nCLICK HERE TO REGISTER EVENT
URL:https://altgc.org/event/sharadh-navratri-festival-raj-lakshmi-alankarana-archana-11-oct-2024/
END:VEVENT
BEGIN:VEVENT
DTSTART;TZID=UTC:20241010T083000
DTEND;TZID=UTC:20241010T203000
DTSTAMP:20260425T111919
CREATED:20231228T194703Z
LAST-MODIFIED:20240827T064354Z
UID:29300-1728549000-1728592200@altgc.org
SUMMARY:SHARADH NAVRATRI FESTIVAL - VIJAYA LAKSHMI ALANKARANA/ARCHANA
DESCRIPTION:Oct 10th Thursday- 2024\nMorning: 8:30 Am- Suprabatham\n9:00 Am -Nityapooja\n9:30 Am – Sri Vijaya Lakshmi Abhishekam\n11:00 Am- Puthrakaameshti Sri Vainateya Homam\n12:30 Pm – Puranhuthi\, Maha Mangalahaarathi & Prasdam \n\nEvening: 5:30 Pm – Sri Lalitha Sahasranam Sothtra Parayanam\n6pm – Sri Ashtalakshmi Laksha Kumkumaarchana\n7:30 Pm – Carnatic Music\n8:15 pm – Maha Mangala Harathi & Prasdam\n8:30pm – Sri Vijaya Lakshmi Pallaki Seva\n \n \n  \nCLICK HERE TO REGISTER EVENT
URL:https://altgc.org/event/sharadh-navratri-festival-vijaya-lakshmi-alankarana-archana-10-oct-2024/
END:VEVENT
BEGIN:VEVENT
DTSTART;TZID=UTC:20241009T083000
DTEND;TZID=UTC:20241009T203000
DTSTAMP:20260425T111919
CREATED:20231228T194959Z
LAST-MODIFIED:20240827T064045Z
UID:29304-1728462600-1728505800@altgc.org
SUMMARY:SHARADH NAVRATRI FESTIVAL - SARASWATHI PUJA/VIDYA LAKSHMI
DESCRIPTION:Oct 9th Wednesday – 2024 \nMorning: 8:30 Am- Suprabatham\n9:00 Am – Nityapooja\n9:30 Am – Sri Vidya Lakshmi Abhishekam\n11:00 Am- Sri Suktha & Sarasvati Homam\n12:30 Pm-Puranhuthi\, Maha Mangalahaarathi & Prasdam \n\nEvening: 5:30 Pm – Sri Lalitha Sahasranam Sothtra Parayanam \n6Pm – Sri Ashtalakshmi Laksha Kumkumaarchana & Kids Sarasvati Pooja\n7:30 Pm – Carnatic Music\n8:15 Pm – Maha Mangala Harathi & Prasdam\n8:30 Pm – Sri Vidya Lakshmi Pallaki Seva\n \n \n  \nCLICK HERE TO REGISTER EVENT
URL:https://altgc.org/event/sharadh-navratri-festival-saraswathi-puja-vidya-lakshmi-09-oct-2024/
END:VEVENT
BEGIN:VEVENT
DTSTART;TZID=UTC:20241008T083000
DTEND;TZID=UTC:20241008T203000
DTSTAMP:20260425T111919
CREATED:20231228T194529Z
LAST-MODIFIED:20240827T063719Z
UID:29298-1728376200-1728419400@altgc.org
SUMMARY:SHARADH NAVRATRI FESTIVAL - VERA LAKSHMI ALANKARANA/ARCHANA
DESCRIPTION:Oct 8th Tuesday – 2024 \n Morning: 8:30 Am- Suprabatham\n9:00 Am – Nityapooja\n9:30 Am – Sri Veera Lakshmi Abhishekam\n11:00 Am- Sri Hanuman Manyu Suktha Homam\n12:30 Pm – Puranhuthi\, Maha Mangalahaarathi & Prasdam  \nEvening: 5:30 pm – Sri Lalitha Sahasranama Parayanam\n6pm -sri Ashtalakshmi Laksha Kumkumaarchana\n7:30 Pm – Carnatic Music\n8:15 Pm – Maha Mangala Harathi & Prasdam\n8:30 Pm – Sri Veera Lakshmi Pallaki Seva\n \n \n  \nCLICK HERE TO REGISTER EVENT
URL:https://altgc.org/event/sharadh-navratri-festival-vera-lakshmi-alankarana-archana-08-oct-2024/
END:VEVENT
BEGIN:VEVENT
DTSTART;TZID=UTC:20241007T083000
DTEND;TZID=UTC:20241007T203000
DTSTAMP:20260425T111919
CREATED:20231228T194411Z
LAST-MODIFIED:20240827T063411Z
UID:29296-1728289800-1728333000@altgc.org
SUMMARY:SHARADH NAVRATRI FESTIVAL - SANTANA LAKSHMI ALANKARANA/ARCHANA
DESCRIPTION:Oct 7th Monday – 2024 \nMorning: 8:30 Am- Suprabatham\n9:00 Am – Nityapooja\n9:30 Am – Sri Santhanalakshmi Abhishekam\n11:00 Am – Sri Lakshmi Narayana Homam\n12:30 pm – Puranhuthi\, Maha Mangalahaarathi & Prasdam \n\nEvening: 5:30 pm – Sri Lalitha Sahasranama Parayanam\n6pm – Sri Ashtalakshmi Laksha Kumkumaarchana \n7:30 Pm – Carnatic Music\n8:15 Pm – Maha Mangala Harathi & Prasadam \n8:30pm – Sri Santhana Lakshmi Pallaki Seva \n \n  \nCLICK HERE TO REGISTER EVENT
URL:https://altgc.org/event/sharadh-navratri-festival-santana-lakshmi-alankarana-archana-07-oct-2024/
END:VEVENT
END:VCALENDAR