BEGIN:VCALENDAR
VERSION:2.0
PRODID:-//ALTGC - ECPv6.15.20//NONSGML v1.0//EN
CALSCALE:GREGORIAN
METHOD:PUBLISH
X-WR-CALNAME:ALTGC
X-ORIGINAL-URL:https://altgc.org
X-WR-CALDESC:Events for ALTGC
REFRESH-INTERVAL;VALUE=DURATION:PT1H
X-Robots-Tag:noindex
X-PUBLISHED-TTL:PT1H
BEGIN:VTIMEZONE
TZID:UTC
BEGIN:STANDARD
TZOFFSETFROM:+0000
TZOFFSETTO:+0000
TZNAME:UTC
DTSTART:20230101T000000
END:STANDARD
END:VTIMEZONE
BEGIN:VTIMEZONE
TZID:America/Chicago
BEGIN:DAYLIGHT
TZOFFSETFROM:-0600
TZOFFSETTO:-0500
TZNAME:CDT
DTSTART:20230312T080000
END:DAYLIGHT
BEGIN:STANDARD
TZOFFSETFROM:-0500
TZOFFSETTO:-0600
TZNAME:CST
DTSTART:20231105T070000
END:STANDARD
BEGIN:DAYLIGHT
TZOFFSETFROM:-0600
TZOFFSETTO:-0500
TZNAME:CDT
DTSTART:20240310T080000
END:DAYLIGHT
BEGIN:STANDARD
TZOFFSETFROM:-0500
TZOFFSETTO:-0600
TZNAME:CST
DTSTART:20241103T070000
END:STANDARD
BEGIN:DAYLIGHT
TZOFFSETFROM:-0600
TZOFFSETTO:-0500
TZNAME:CDT
DTSTART:20250309T080000
END:DAYLIGHT
BEGIN:STANDARD
TZOFFSETFROM:-0500
TZOFFSETTO:-0600
TZNAME:CST
DTSTART:20251102T070000
END:STANDARD
END:VTIMEZONE
BEGIN:VEVENT
DTSTART;TZID=UTC:20241012T083000
DTEND;TZID=UTC:20241012T203000
DTSTAMP:20260425T224741
CREATED:20231228T195139Z
LAST-MODIFIED:20240827T065016Z
UID:29306-1728721800-1728765000@altgc.org
SUMMARY:SHARADH NAVRATRI FESTIVAL - VIJAYA DASHMI SRI LAKHSMI NARAYANA KALYANAM
DESCRIPTION:Oct 12th Friday – 2024\nSaturday – Vijayadashami Day 2024\n Morning: 8:30 Am- Suprabatham\n9:00 Am – Nityapooja\n9:30 Am – Sri Ranganatha Abhishekam\n11:00 Am- Sri Bhoo Sametha Sri Ranganatha Swamy Kalyanam {TTD Laddu Prasadam}\n12:30 Pm – Maha Mangalahaarathi &maha Prasdam \n Evening: 5:30 Pm – Sri Vishnu Sahasranama Parayanam\n 6pm – Sri Sita Rama Almkaara Seva\n7:30 PM – Carnatic Music\n8:15 Pm – Maha Mangala Harathi & Prasdam \n8:30pm – Sri Sita Rama Pallaki Seva\n \n \n  \nCLICK HERE TO REGISTER EVENT
URL:https://altgc.org/event/sharadh-navratri-festival-vijaya-dashmi-sri-lakhsmi-narayana-kalyanam-12-oct-2024/
END:VEVENT
BEGIN:VEVENT
DTSTART;TZID=UTC:20241011T083000
DTEND;TZID=UTC:20241011T203000
DTSTAMP:20260425T224741
CREATED:20231228T194806Z
LAST-MODIFIED:20240827T064720Z
UID:29302-1728635400-1728678600@altgc.org
SUMMARY:SHARADH NAVRATRI FESTIVAL - RAJYA LAKSHMI ALANKARANA/ARCHANA
DESCRIPTION:Oct 11th Friday – 2024 \nMorning: 8:30 Am- Suprabatham\n9:00 Am – Nityapooja\n9:30 Am – Sri Rajyalakshmi Lakshmi Abhishekam\n11:00 Am – Sri Suktha Homam\n12:30 Pm – Puranhuthi\, Maha Mangalahaarathi & Prasdam \n\nEvening: 5:30 Pm – Sri Lalitha Sahasranama Parayanam\n6pm – Sri Ashtalakshmi Laksha Kumkumaarchana\n 7:30 Pm – Carnatic Music\n8:15 Pm – Maha Mangala Harathi & Prasdam \n8:30pm – Sri Rajyalakshmi Pallaki Seva\n \n \n  \nCLICK HERE TO REGISTER EVENT
URL:https://altgc.org/event/sharadh-navratri-festival-raj-lakshmi-alankarana-archana-11-oct-2024/
END:VEVENT
BEGIN:VEVENT
DTSTART;TZID=UTC:20241010T083000
DTEND;TZID=UTC:20241010T203000
DTSTAMP:20260425T224741
CREATED:20231228T194703Z
LAST-MODIFIED:20240827T064354Z
UID:29300-1728549000-1728592200@altgc.org
SUMMARY:SHARADH NAVRATRI FESTIVAL - VIJAYA LAKSHMI ALANKARANA/ARCHANA
DESCRIPTION:Oct 10th Thursday- 2024\nMorning: 8:30 Am- Suprabatham\n9:00 Am -Nityapooja\n9:30 Am – Sri Vijaya Lakshmi Abhishekam\n11:00 Am- Puthrakaameshti Sri Vainateya Homam\n12:30 Pm – Puranhuthi\, Maha Mangalahaarathi & Prasdam \n\nEvening: 5:30 Pm – Sri Lalitha Sahasranam Sothtra Parayanam\n6pm – Sri Ashtalakshmi Laksha Kumkumaarchana\n7:30 Pm – Carnatic Music\n8:15 pm – Maha Mangala Harathi & Prasdam\n8:30pm – Sri Vijaya Lakshmi Pallaki Seva\n \n \n  \nCLICK HERE TO REGISTER EVENT
URL:https://altgc.org/event/sharadh-navratri-festival-vijaya-lakshmi-alankarana-archana-10-oct-2024/
END:VEVENT
BEGIN:VEVENT
DTSTART;TZID=UTC:20241009T083000
DTEND;TZID=UTC:20241009T203000
DTSTAMP:20260425T224741
CREATED:20231228T194959Z
LAST-MODIFIED:20240827T064045Z
UID:29304-1728462600-1728505800@altgc.org
SUMMARY:SHARADH NAVRATRI FESTIVAL - SARASWATHI PUJA/VIDYA LAKSHMI
DESCRIPTION:Oct 9th Wednesday – 2024 \nMorning: 8:30 Am- Suprabatham\n9:00 Am – Nityapooja\n9:30 Am – Sri Vidya Lakshmi Abhishekam\n11:00 Am- Sri Suktha & Sarasvati Homam\n12:30 Pm-Puranhuthi\, Maha Mangalahaarathi & Prasdam \n\nEvening: 5:30 Pm – Sri Lalitha Sahasranam Sothtra Parayanam \n6Pm – Sri Ashtalakshmi Laksha Kumkumaarchana & Kids Sarasvati Pooja\n7:30 Pm – Carnatic Music\n8:15 Pm – Maha Mangala Harathi & Prasdam\n8:30 Pm – Sri Vidya Lakshmi Pallaki Seva\n \n \n  \nCLICK HERE TO REGISTER EVENT
URL:https://altgc.org/event/sharadh-navratri-festival-saraswathi-puja-vidya-lakshmi-09-oct-2024/
END:VEVENT
BEGIN:VEVENT
DTSTART;TZID=UTC:20241008T083000
DTEND;TZID=UTC:20241008T203000
DTSTAMP:20260425T224741
CREATED:20231228T194529Z
LAST-MODIFIED:20240827T063719Z
UID:29298-1728376200-1728419400@altgc.org
SUMMARY:SHARADH NAVRATRI FESTIVAL - VERA LAKSHMI ALANKARANA/ARCHANA
DESCRIPTION:Oct 8th Tuesday – 2024 \n Morning: 8:30 Am- Suprabatham\n9:00 Am – Nityapooja\n9:30 Am – Sri Veera Lakshmi Abhishekam\n11:00 Am- Sri Hanuman Manyu Suktha Homam\n12:30 Pm – Puranhuthi\, Maha Mangalahaarathi & Prasdam  \nEvening: 5:30 pm – Sri Lalitha Sahasranama Parayanam\n6pm -sri Ashtalakshmi Laksha Kumkumaarchana\n7:30 Pm – Carnatic Music\n8:15 Pm – Maha Mangala Harathi & Prasdam\n8:30 Pm – Sri Veera Lakshmi Pallaki Seva\n \n \n  \nCLICK HERE TO REGISTER EVENT
URL:https://altgc.org/event/sharadh-navratri-festival-vera-lakshmi-alankarana-archana-08-oct-2024/
END:VEVENT
BEGIN:VEVENT
DTSTART;TZID=UTC:20241007T083000
DTEND;TZID=UTC:20241007T203000
DTSTAMP:20260425T224741
CREATED:20231228T194411Z
LAST-MODIFIED:20240827T063411Z
UID:29296-1728289800-1728333000@altgc.org
SUMMARY:SHARADH NAVRATRI FESTIVAL - SANTANA LAKSHMI ALANKARANA/ARCHANA
DESCRIPTION:Oct 7th Monday – 2024 \nMorning: 8:30 Am- Suprabatham\n9:00 Am – Nityapooja\n9:30 Am – Sri Santhanalakshmi Abhishekam\n11:00 Am – Sri Lakshmi Narayana Homam\n12:30 pm – Puranhuthi\, Maha Mangalahaarathi & Prasdam \n\nEvening: 5:30 pm – Sri Lalitha Sahasranama Parayanam\n6pm – Sri Ashtalakshmi Laksha Kumkumaarchana \n7:30 Pm – Carnatic Music\n8:15 Pm – Maha Mangala Harathi & Prasadam \n8:30pm – Sri Santhana Lakshmi Pallaki Seva \n \n  \nCLICK HERE TO REGISTER EVENT
URL:https://altgc.org/event/sharadh-navratri-festival-santana-lakshmi-alankarana-archana-07-oct-2024/
END:VEVENT
BEGIN:VEVENT
DTSTART;TZID=UTC:20241006T083000
DTEND;TZID=UTC:20241006T203000
DTSTAMP:20260425T224741
CREATED:20231228T194156Z
LAST-MODIFIED:20240827T062319Z
UID:29294-1728203400-1728246600@altgc.org
SUMMARY:SHARADH NAVRATRI FESTIVAL - GAJA LAKSHMI ALANKARANA/ARCHANA
DESCRIPTION:Oct 6th Sunday – 2024\nMorning: 8:30 Am- Suprabatham\n9:00 Am – Nityapooja\n9:30 Am – Sri Gaja Lakshmi Abhishekam\n11:00 Am – Sri Hayagreeva Homam\n12:30 pm – Puranhuthi\, Maha Mangalahaarathi & Prasdam \nEvening: 5:30 Pm – Sri Lalitha Sahasranama Parayanam\n6pm – Sri Ashtalakshmi Laksha Kumkumaarchana\n7:30 Pm – Carnatic Music\n8:15 pm – Maha Mangala Harathi & Prasadam\n8:30pm – Sri Gaja Lakshmi Pallaki Seva \n\n  \nCLICK HERE TO REGISTER EVENT
URL:https://altgc.org/event/sharadh-navratri-festival-gaja-lakshmi-alankarana-archana-06-oct-2024/
END:VEVENT
BEGIN:VEVENT
DTSTART;TZID=UTC:20241005T083000
DTEND;TZID=UTC:20241005T203000
DTSTAMP:20260425T224741
CREATED:20231228T194036Z
LAST-MODIFIED:20240827T063021Z
UID:29292-1728117000-1728160200@altgc.org
SUMMARY:SHARADH NAVRATRI FESTIVAL - DHANYA LAKSHMI ALANKARANA/ARCHANA
DESCRIPTION:Oct 5th Saturday – 2024\nMorning: 8:30 Am- Suprabatham\n9:00 Am – Nityapooja\n9:30 Am – Sri Dhanya Lakshmi Abhishekam\n11:00 Am- Sri Naarasimha Homam\n12:30pm – Puranhuthi\, Maha Mangalahaarathi & Prasdam \nEvening: 5:30 Pm – Sri Vishnu Sahasranama Parayanam\n6pm -sri Ashtalakshmi Laksha Kumkumaarchana\n7:30 Pm – Carnatic Music\n8:15 Pm – Maha Mangala Harathi & Prasadam\n8:30pm – Sri Dhanya Lakshmi Pallaki Seva \n \n  \nCLICK HERE TO REGISTER EVENT
URL:https://altgc.org/event/sharadh-navratri-festival-dhanya-lakshmi-alankarana-archana-05-oct-2024/
END:VEVENT
BEGIN:VEVENT
DTSTART;TZID=UTC:20241004T083000
DTEND;TZID=UTC:20241004T203000
DTSTAMP:20260425T224741
CREATED:20231228T193940Z
LAST-MODIFIED:20240827T062434Z
UID:29290-1728030600-1728073800@altgc.org
SUMMARY:SHARADH NAVRATRI FESTIVAL - DHANA LAKSHMI ALANKARANA/ARCHANA
DESCRIPTION:Oct 4th Friday – 2024\nMorning: 8:30 Am-Suprabatham\n9:00 Am – Nityapooja\n9:30 Am – Sri Dhana Lakshmi Abhishekam\n11:00 Am- Sri Sudrashana Homam\n12:30 Pm – Purnahuthi\, Maha Mangalahaarathi &prasadam \n\nEvening: 5:30 Pm – Sri Lalitha Sahasranama Parayanam\n6pm – Sri Ashtalakshmi Laksha Kumkumaarchana\n7:30 Pm – Carnatic Music\n8:15 Pm – Maha Mangala Harathi & Prasadam\n8:30pm – Sri Dhana Lakshmi Pallaki Seva \n\n  \nCLICK HERE TO REGISTER EVENT
URL:https://altgc.org/event/sharadh-navratri-festival-dhana-lakshmi-alankarana-archana-04-oct-2024/
END:VEVENT
BEGIN:VEVENT
DTSTART;TZID=UTC:20241003T083000
DTEND;TZID=UTC:20241003T203000
DTSTAMP:20260425T224741
CREATED:20231228T193806Z
LAST-MODIFIED:20240827T062854Z
UID:29288-1727944200-1727987400@altgc.org
SUMMARY:SHARADH NAVRATRI FESTIVAL - ADI LAKSHMI ALANKARANA/ARCHANA
DESCRIPTION:Oct 3rd Thursday – 2024\nMorning: 8:30 Am – Suprabatham\n9:00 Am – Nityapooja\n9:30 Am – Sri Adi Lakshmi Abhishekam\n11:00 Am – Sri Vishwaksena & Sri Maha Ganpathi Homam\n12:30 Pm – Puranhuthi\, Maha Mangalahaarathi & Prasdam \nEvening: 5:30 pm – Sri Lalitha Sahasranama Parayanam\n6pm – Sri Ashtalakshmi Laksha Kumkumaarchana\n7:30 Pm – Carnatic Music\n8:15 Pm – Maha Mangala Harathi & Prasadam\n8:30pm – Sri Adi Lakshmi Pallaki Seva \n\n  \n  \nCLICK HERE TO REGISTER EVENT
URL:https://altgc.org/event/sharadh-navratri-festival-adi-lakshmi-alankarana-archana-03-oct-2024/
END:VEVENT
BEGIN:VEVENT
DTSTART;TZID=UTC:20241002T173000
DTEND;TZID=UTC:20241002T190000
DTSTAMP:20260425T224741
CREATED:20231221T165122Z
LAST-MODIFIED:20240827T055843Z
UID:28698-1727890200-1727895600@altgc.org
SUMMARY:Nine days Navrathi Celebrations (OCT 2-OCT 11) - Navratri
DESCRIPTION:Sri Ashtalakshmi Navaratri Utshavam {Shared Navaratri} Sahitha Sri Maha Lakshmi [Sri Chakra] Laksha Kumkumaarchana \nOct 2nd Wednesday – 2024\n6pm- Sri Vishnu Sahasra Nama parayanam\n6:30pm – Sri Viswaksena & Sri Mahaganapathi Pooja Ankuroropana & Navaratri Samkalpam For Sponsors \nCLICK HERE TO REGISTER EVENT
URL:https://altgc.org/event/nine-days-navrathi-celebrations-oct-2-oct-11-navratri/
END:VEVENT
BEGIN:VEVENT
DTSTART;TZID=UTC:20241001T093000
DTEND;TZID=UTC:20241001T190000
DTSTAMP:20260425T224741
CREATED:20231228T163247Z
LAST-MODIFIED:20231228T163302Z
UID:29193-1727775000-1727809200@altgc.org
SUMMARY:SRI MAHA LAKSHIMI ABHISHEKAM
DESCRIPTION:
URL:https://altgc.org/event/sri-maha-lakshimi-abhishekam-01-oct-2024/
END:VEVENT
BEGIN:VEVENT
DTSTART;TZID=UTC:20240920T093000
DTEND;TZID=UTC:20240920T190000
DTSTAMP:20260425T224741
CREATED:20231228T190411Z
LAST-MODIFIED:20231228T190431Z
UID:29252-1726824600-1726858800@altgc.org
SUMMARY:SANKATAHARANA CHATURTHI
DESCRIPTION:
URL:https://altgc.org/event/sankataharana-chaturthi-20-sep-2024/
END:VEVENT
BEGIN:VEVENT
DTSTART;TZID=UTC:20240919T080000
DTEND;TZID=UTC:20240919T170000
DTSTAMP:20260425T224741
CREATED:20231228T160434Z
LAST-MODIFIED:20231228T160434Z
UID:29161-1726732800-1726765200@altgc.org
SUMMARY:SRI RANGANATHA (SRIMANNARAYANA) ABHISHEKAM
DESCRIPTION:
URL:https://altgc.org/event/sri-ranganatha-srimannarayana-abhishekam-19-sept-2024/
END:VEVENT
BEGIN:VEVENT
DTSTART;TZID=UTC:20240917T093000
DTEND;TZID=UTC:20240917T190000
DTSTAMP:20260425T224741
CREATED:20231228T164809Z
LAST-MODIFIED:20231228T164826Z
UID:29219-1726565400-1726599600@altgc.org
SUMMARY:SRI SATYANARYANA POOJA
DESCRIPTION:
URL:https://altgc.org/event/sri-satyanaryana-pooja-17-sep-2024/
END:VEVENT
BEGIN:VEVENT
DTSTART;TZID=UTC:20240917T093000
DTEND;TZID=UTC:20240917T114700
DTSTAMP:20260425T224741
CREATED:20231221T165022Z
LAST-MODIFIED:20231223T120242Z
UID:28696-1726565400-1726573620@altgc.org
SUMMARY:Lunar Eclipse Starts 09:30 PM - 11:47 PM (Temple close by 7:PM) - Lunar Eclipse
DESCRIPTION:
URL:https://altgc.org/event/lunar-eclipse-starts-0930-pm-1147-pm-temple-close-by-7pm-lunar-eclipse/
END:VEVENT
BEGIN:VEVENT
DTSTART;TZID=UTC:20240906T090000
DTEND;TZID=UTC:20240915T203000
DTSTAMP:20260425T224741
CREATED:20231221T164922Z
LAST-MODIFIED:20240621T081714Z
UID:28694-1725613200-1726432200@altgc.org
SUMMARY:Sri Ganesh Chaturthi (Sankathara Maha ganpati Abhishekam/Archana) - Vinayaka Chavithi
DESCRIPTION:Morning:\n09:00 AM –  Suprabatham\n09:30 AM –  Nitya Pooja\n10:00 AM – Sri Sankata Hara Maha Ganapathi Abhishekam\n11:30 AM – Sri Mahaganapathi Sahasra Moodaka Archana\n12:30 PM – Maha Mangala Harathi\, Manthrapushapam & Prasadam \nEvery 20 Minutes Archana Start At 1 Pm Until 5:30pm. \nEvening:\n6:00 PM – Sri Lalitha Sahasranama Stothra Parayanam Every Day \n7:00 PM – Carnatic Music \n8:00 PM – Ganapathi Pallaki Seva on September 6th 7th 8th 13th 14th 15th Only \n8:30 PM –  Maha Mangala Harathi \nSpecial Sri Sankata Hara Maha Ganapathi Abhishekam 10 AM & Sahasra Nama Archana 11:30am \nDay 2: Sahasra Modaka Archana 11:30am\nDay 3: Sahasra Bilvya Pathraarchana 11:30am\nDay 4: Sahasra Maruvaka Patraarchana 11:30 Am\nDay 5: Sahasra Aamra Patra Archana (Mango)11:30am\nDay 6: Sahasra Tulasi Patrachanam 11:30am\nDay 7: Sahasra Daadima Patraarchanam 11:30am\nDay 8: Sahasra Arka Patraarchnam 11:30am\nDay 9: Sahasra BadariPatraarchana:11:30am \nSri Ganesh Chaturthi (Sankathara Maha ganpati AbhishekamArchana) – Vinayaka Chavithi\n 
URL:https://altgc.org/event/sri-ganesh-chaturthi-sankathara-maha-ganpati-abhishekam-archana-vinayaka-chavithi/
END:VEVENT
BEGIN:VEVENT
DTSTART;TZID=UTC:20240904T093000
DTEND;TZID=UTC:20240904T190000
DTSTAMP:20260425T224741
CREATED:20231228T163206Z
LAST-MODIFIED:20231228T163221Z
UID:29191-1725442200-1725476400@altgc.org
SUMMARY:SRI MAHA LAKSHIMI ABHISHEKAM
DESCRIPTION:
URL:https://altgc.org/event/sri-maha-lakshimi-abhishekam-04-sep-2024/
END:VEVENT
BEGIN:VEVENT
DTSTART;TZID=America/Chicago:20240830T090000
DTEND;TZID=America/Chicago:20240830T200000
DTSTAMP:20260425T224741
CREATED:20240620T082042Z
LAST-MODIFIED:20240620T082042Z
UID:31591-1725008400-1725048000@altgc.org
SUMMARY:Sri Vara Maha Lakshmi Vratham-Fourth Friday
DESCRIPTION:Morning \n09.00 AM –  Suprabatham \n09.30AM –  Nityapooja \n10.30 AM – Sri Mahalakshmi Abhishekam \n12.00 PM – Maha Mangala Haarathi \nEvening \n05.30 PM –  Sri Vishnu Sahasranam Sothtra Parayanam \n06.00 PM –  Sri Ashtalakshmi Laksha Bilvaarchana \n07.00 PM –  Carnatic Music \n08.00 PM – Maha Mangala Haarathi
URL:https://altgc.org/event/sri-vara-maha-lakshmi-vratham-fourth-friday/
END:VEVENT
BEGIN:VEVENT
DTSTART;TZID=UTC:20240826T103000
DTEND;TZID=UTC:20240826T113000
DTSTAMP:20260425T224741
CREATED:20231221T164822Z
LAST-MODIFIED:20231221T164822Z
UID:28692-1724668200-1724671800@altgc.org
SUMMARY:Sri Jayanti (Sri Krishna Abhishekam/Archana) - Krishna Asthami
DESCRIPTION:
URL:https://altgc.org/event/sri-jayanti-sri-krishna-abhishekam-archana-krishna-asthami/
END:VEVENT
BEGIN:VEVENT
DTSTART;TZID=America/Chicago:20240823T090000
DTEND;TZID=America/Chicago:20240823T200000
DTSTAMP:20260425T224741
CREATED:20240620T081705Z
LAST-MODIFIED:20240620T081705Z
UID:31589-1724403600-1724443200@altgc.org
SUMMARY:Sri Vara Maha Lakshmi Vratham-Third Friday
DESCRIPTION:Morning \n09.00 AM –  Suprabatham \n09.30 AM –  Nityapooja \n10.30 AM – Sri Mahalakshmi Abhishekam \n12.00 PM – Maha Mangala Haarathi \nEvening \n05.30 PM – Sri Lalitha Sahasranam Sothtra Parayanam \n06.00 PM –  Sri Ashtalakshmi Laksha Bilvaarchana \n07.00 PM –  Carnatic Music \n08.00 PM – Maha Mangala Haarathi
URL:https://altgc.org/event/sri-vara-maha-lakshmi-vratham-third-friday/
END:VEVENT
BEGIN:VEVENT
DTSTART;TZID=UTC:20240823T080000
DTEND;TZID=UTC:20240823T170000
DTSTAMP:20260425T224741
CREATED:20231228T160245Z
LAST-MODIFIED:20231228T160318Z
UID:29159-1724400000-1724432400@altgc.org
SUMMARY:SRI RANGANATHA (SRIMANNARAYANA) ABHISHEKAM
DESCRIPTION:
URL:https://altgc.org/event/sri-ranganatha-srimannarayana-abhishekam-23-august-2024/
END:VEVENT
BEGIN:VEVENT
DTSTART;TZID=UTC:20240822T093000
DTEND;TZID=UTC:20240822T190000
DTSTAMP:20260425T224741
CREATED:20231228T190319Z
LAST-MODIFIED:20231228T190335Z
UID:29250-1724319000-1724353200@altgc.org
SUMMARY:SANKATAHARANA CHATURTHI
DESCRIPTION:
URL:https://altgc.org/event/sankataharana-chaturthi-22-aug-2024/
END:VEVENT
BEGIN:VEVENT
DTSTART;TZID=UTC:20240819T093000
DTEND;TZID=UTC:20240819T190000
DTSTAMP:20260425T224741
CREATED:20231228T164724Z
LAST-MODIFIED:20231228T164739Z
UID:29217-1724059800-1724094000@altgc.org
SUMMARY:SRI SATYANARYANA POOJA
DESCRIPTION:
URL:https://altgc.org/event/sri-satyanaryana-pooja-19-aug-2024/
END:VEVENT
BEGIN:VEVENT
DTSTART;TZID=America/Chicago:20240816T090000
DTEND;TZID=America/Chicago:20240816T200000
DTSTAMP:20260425T224741
CREATED:20240620T081013Z
LAST-MODIFIED:20240620T081057Z
UID:31587-1723798800-1723838400@altgc.org
SUMMARY:Sri Vara Maha Lakshmi Vratham-Second  Friday
DESCRIPTION:Morning \n09.00 AM – Suprabatham \n09.30 AM –  Nityapooja \n10.30 AM – Sri Mahalakshmi Abhishekam \n12.00 PM –  Maha Mangala Haarathi \nEvening \n05.30 PM – Sri Lalitha Sahasranam Sothtra Parayanam \n06.00 PM – Sri Varamaha Lakshmi Vratham \n07.10 PM –  Laksha Bilvaarchana \n08.00 P.M –  Maha Mangala Haarathi & Prasadam
URL:https://altgc.org/event/sri-vara-maha-lakshmi-vratham-second-friday/
END:VEVENT
BEGIN:VEVENT
DTSTART;TZID=UTC:20240813T103000
DTEND;TZID=UTC:20240813T113000
DTSTAMP:20260425T224741
CREATED:20231221T164721Z
LAST-MODIFIED:20231221T164721Z
UID:28690-1723545000-1723548600@altgc.org
SUMMARY:Sri Hayagrivajayanti - Yajur upakarma
DESCRIPTION:
URL:https://altgc.org/event/sri-hayagrivajayanti-yajur-upakarma/
END:VEVENT
BEGIN:VEVENT
DTSTART;TZID=UTC:20240809T090000
DTEND;TZID=UTC:20240809T200000
DTSTAMP:20260425T224741
CREATED:20231221T164630Z
LAST-MODIFIED:20240620T082342Z
UID:28688-1723194000-1723233600@altgc.org
SUMMARY:Sri Vara Maha Lakshmi Vratham-First Friday
DESCRIPTION:Morning \n09.00 AM –  Suprabatham \n09.30 AM –  Nityapooja \n10.30 AM –  Sri Mahalakshmi Abhishekam \n12.00 PM –  Maha Mangala Haarathi \nEvening \n05.30 PM –  Sri Vishnu Sahasranam Sothtra Parayanam \n06.00 PM –  Sri Ashtalakshmi Laksha Bilvaarchana \n07.00 PM –  Carnatic Music \n08.00 PM –  Maha Mangala Haarathi \n \n \n 
URL:https://altgc.org/event/sri-varamaha-lakshmi-vratham-samohik-vara-lakshmi-vratham-first-friday/
END:VEVENT
BEGIN:VEVENT
DTSTART;TZID=UTC:20240808T093000
DTEND;TZID=UTC:20240808T190000
DTSTAMP:20260425T224741
CREATED:20231228T163108Z
LAST-MODIFIED:20231228T163124Z
UID:29189-1723109400-1723143600@altgc.org
SUMMARY:SRI MAHA LAKSHIMI ABHISHEKAM
DESCRIPTION:
URL:https://altgc.org/event/sri-maha-lakshimi-abhishekam-08-aug-2024/
END:VEVENT
BEGIN:VEVENT
DTSTART;TZID=UTC:20240807T103000
DTEND;TZID=UTC:20240807T113000
DTSTAMP:20260425T224741
CREATED:20231221T164539Z
LAST-MODIFIED:20231221T164539Z
UID:28686-1723026600-1723030200@altgc.org
SUMMARY:Sri Andal Abhishekam - Andal Tirunakshatra
DESCRIPTION:
URL:https://altgc.org/event/sri-andal-abhishekam-andal-tirunakshatra/
END:VEVENT
BEGIN:VEVENT
DTSTART;TZID=UTC:20240726T080000
DTEND;TZID=UTC:20240726T170000
DTSTAMP:20260425T224741
CREATED:20231228T160151Z
LAST-MODIFIED:20231228T160213Z
UID:29157-1721980800-1722013200@altgc.org
SUMMARY:SRI RANGANATHA (SRIMANNARAYANA) ABHISHEKAM
DESCRIPTION:
URL:https://altgc.org/event/sri-ranganatha-srimannarayana-abhishekam-26-july-2024/
END:VEVENT
END:VCALENDAR